BEGIN:VCALENDAR
PRODID:-//eluceo/ical//2.0/EN
VERSION:2.0
CALSCALE:GREGORIAN
BEGIN:VEVENT
UID:8bdc67a15b93a32d162ac3bc03a39f4c
DTSTAMP:20260422T082131Z
SUMMARY:[Frauen Landesliga] CVJM Möglingen  - CVJM  Walddorfhäslach 
URL:https://www.eichenkreuzliga.de/handball/game/id/11657
DTSTART:20210206T180000
DTEND:20210206T190000
LOCATION:Stadionhalle\, 71696 Möglingen
END:VEVENT
END:VCALENDAR
