BEGIN:VCALENDAR
PRODID:-//eluceo/ical//2.0/EN
VERSION:2.0
CALSCALE:GREGORIAN
BEGIN:VEVENT
UID:4616ac4f1c25d05291ddffdcb5c7cb49
DTSTAMP:20260422T140116Z
SUMMARY:[weibliche D-Jugend Runde] CVJM Kirchentellinsfurt  - CVJM Mögling
 en 
URL:https://www.eichenkreuzliga.de/handball/game/id/11659
DTSTART:20210307T150000
DTEND:20210307T160000
LOCATION:Sporthalle\, 72138 Kirchentellinsfurt
END:VEVENT
END:VCALENDAR
