BEGIN:VCALENDAR
PRODID:-//eluceo/ical//2.0/EN
VERSION:2.0
CALSCALE:GREGORIAN
BEGIN:VEVENT
UID:c5956de43bde99cc25e78dd881fb4e48
DTSTAMP:20260422T140102Z
SUMMARY:[Frauen Landesliga] EK Bernhausen  - CVJM  Walddorfhäslach 
URL:https://www.eichenkreuzliga.de/handball/game/id/11661
DTSTART:20210130T153000
DTEND:20210130T163000
LOCATION:Elisabeth-Selbert-Gymnasium Halle\, 70794 Bernhausen
END:VEVENT
END:VCALENDAR
