BEGIN:VCALENDAR
PRODID:-//eluceo/ical//2.0/EN
VERSION:2.0
CALSCALE:GREGORIAN
BEGIN:VEVENT
UID:29fd5b2ee6415911f2e4954dee122be7
DTSTAMP:20260422T140045Z
SUMMARY:[weibliche C-Jugend Runde] CVJM HB Dußlingen-Gomaringen 1 - CVJM H
 ülben 
URL:https://www.eichenkreuzliga.de/handball/game/id/11810
DTSTART:20210424T143000
DTEND:20210424T153000
LOCATION:Elisabeth-Selbert-Gymnasium Halle\, 70794 Bernhausen
END:VEVENT
END:VCALENDAR
