BEGIN:VCALENDAR
PRODID:-//eluceo/ical//2.0/EN
VERSION:2.0
CALSCALE:GREGORIAN
BEGIN:VEVENT
UID:b799a4edc2aeabc3d6784a61fcb3fa0c
DTSTAMP:20260422T140102Z
SUMMARY:[weibliche C-Jugend Runde] CVJM HB Dußlingen-Gomaringen 1 - CVJM H
 ülben 
URL:https://www.eichenkreuzliga.de/handball/game/id/12354
DTSTART:20210116T123000
DTEND:20210116T133000
LOCATION:Hönisch Sporthalle\, 72144 Dusslingen
END:VEVENT
END:VCALENDAR
