BEGIN:VCALENDAR
PRODID:-//eluceo/ical//2.0/EN
VERSION:2.0
CALSCALE:GREGORIAN
BEGIN:VEVENT
UID:e057010a15dce1dd0afb842111b2a2d2
DTSTAMP:20260422T135954Z
SUMMARY:[weibliche C-Jugend Runde] CVJM Kirchentellinsfurt  - CVJM  Walddor
 fhäslach 
URL:https://www.eichenkreuzliga.de/handball/game/id/12364
DTSTART:20201017T000000
DTEND:20201017T010000
LOCATION:Sporthalle\, 72138 Kirchentellinsfurt
END:VEVENT
END:VCALENDAR
