BEGIN:VCALENDAR
PRODID:-//eluceo/ical//2.0/EN
VERSION:2.0
CALSCALE:GREGORIAN
BEGIN:VEVENT
UID:4f56fae2091f7b54bd8b0dd4efb3c188
DTSTAMP:20260422T122411Z
SUMMARY:[weibliche C-Jugend Runde] CVJM  Walddorfhäslach  - CVJM HB Dußli
 ngen-Gomaringen 1
URL:https://www.eichenkreuzliga.de/handball/game/id/12372
DTSTART:20201114T122000
DTEND:20201114T132000
LOCATION:Ballspielhalle\, 72141 Walddorfhäslach
END:VEVENT
END:VCALENDAR
