BEGIN:VCALENDAR
PRODID:-//eluceo/ical//2.0/EN
VERSION:2.0
CALSCALE:GREGORIAN
BEGIN:VEVENT
UID:997007906e050ac5ab54597994296037
DTSTAMP:20260422T140102Z
SUMMARY:[weibliche C-Jugend Runde] CVJM Kirchentellinsfurt  - EK Bernhausen
  
URL:https://www.eichenkreuzliga.de/handball/game/id/12393
DTSTART:20201213T131500
DTEND:20201213T141500
LOCATION:Sporthalle\, 72138 Kirchentellinsfurt
END:VEVENT
END:VCALENDAR
