BEGIN:VCALENDAR
PRODID:-//eluceo/ical//2.0/EN
VERSION:2.0
CALSCALE:GREGORIAN
BEGIN:VEVENT
UID:4413a2f3b000b5ee9f5cc2111ae807e4
DTSTAMP:20260422T082246Z
SUMMARY:[Männer Landesliga] CVJM Hagelloch - Kusterdingen 1 - CVJM Möglin
 gen 
URL:https://www.eichenkreuzliga.de/handball/game/id/12485
DTSTART:20210123T190000
DTEND:20210123T200000
LOCATION:Sporthalle Waldhäuser-Ost\, 72076 Tübingen
END:VEVENT
END:VCALENDAR
