BEGIN:VCALENDAR
PRODID:-//eluceo/ical//2.0/EN
VERSION:2.0
CALSCALE:GREGORIAN
BEGIN:VEVENT
UID:3cf7a2f0c1dc041cf4596dee7aac16d2
DTSTAMP:20260422T110801Z
SUMMARY:[Männer Landesliga] EK Höfingen  - CVJM Hagelloch - Kusterdingen 
 1
URL:https://www.eichenkreuzliga.de/handball/game/id/12495
DTSTART:20210417T173000
DTEND:20210417T183000
LOCATION:Strohgäuhalle\, 71229 Höfingen
END:VEVENT
END:VCALENDAR
