BEGIN:VCALENDAR
PRODID:-//eluceo/ical//2.0/EN
VERSION:2.0
CALSCALE:GREGORIAN
BEGIN:VEVENT
UID:14d0dfd086dc632a936fdc3561f22505
DTSTAMP:20260422T110835Z
SUMMARY:[Männer Landesliga] CVJM Möglingen  - CVJM HB Dußlingen-Gomaring
 en 
URL:https://www.eichenkreuzliga.de/handball/game/id/12535
DTSTART:20201017T180000
DTEND:20201017T190000
LOCATION:Stadionhalle\, 71696 Möglingen
END:VEVENT
END:VCALENDAR
