BEGIN:VCALENDAR
PRODID:-//eluceo/ical//2.0/EN
VERSION:2.0
CALSCALE:GREGORIAN
BEGIN:VEVENT
UID:7c823301ef8715b28e9dc145f5e47736
DTSTAMP:20260422T140046Z
SUMMARY:[weibliche A-Jugend Runde] CVJM Möglingen  - EK Bernhausen 
URL:https://www.eichenkreuzliga.de/handball/game/id/12717
DTSTART:20210227T160000
DTEND:20210227T170000
LOCATION:Stadionhalle\, 71696 Möglingen
END:VEVENT
END:VCALENDAR
