BEGIN:VCALENDAR
PRODID:-//eluceo/ical//2.0/EN
VERSION:2.0
CALSCALE:GREGORIAN
BEGIN:VEVENT
UID:7e138ea9daa1e2eb0c4410d734e1c731
DTSTAMP:20260422T140045Z
SUMMARY:[weibliche A-Jugend Runde] CVJM Fellbach  - CVJM HB Dußlingen-Goma
 ringen 
URL:https://www.eichenkreuzliga.de/handball/game/id/12727
DTSTART:20210313T150000
DTEND:20210313T160000
LOCATION:Zeppelinhalle\, 70734 Fellbach
END:VEVENT
END:VCALENDAR
