BEGIN:VCALENDAR
PRODID:-//eluceo/ical//2.0/EN
VERSION:2.0
CALSCALE:GREGORIAN
BEGIN:VEVENT
UID:e4a703be34970a15f3a82b63e765d85a
DTSTAMP:20260422T135912Z
SUMMARY:[weibliche A-Jugend Runde] CVJM  Walddorfhäslach  - CVJM Möglinge
 n 
URL:https://www.eichenkreuzliga.de/handball/game/id/12745
DTSTART:20210321T160000
DTEND:20210321T170000
LOCATION:Ballspielhalle\, 72141 Walddorfhäslach
END:VEVENT
END:VCALENDAR
