BEGIN:VCALENDAR
PRODID:-//eluceo/ical//2.0/EN
VERSION:2.0
CALSCALE:GREGORIAN
BEGIN:VEVENT
UID:cf2e51c8e3a4a7781da3f35925bdf686
DTSTAMP:20260422T135410Z
SUMMARY:[männliche C-Jugend Runde] EK Köngen  - CVJM  Walddorfhäslach 
URL:https://www.eichenkreuzliga.de/handball/game/id/12782
DTSTART:20201017T130000
DTEND:20201017T140000
LOCATION:Burgschulhalle\, 73257 Köngen
END:VEVENT
END:VCALENDAR
