BEGIN:VCALENDAR
PRODID:-//eluceo/ical//2.0/EN
VERSION:2.0
CALSCALE:GREGORIAN
BEGIN:VEVENT
UID:0c856311350a21c33a092c04c08a8f42
DTSTAMP:20260422T094836Z
SUMMARY:[männliche C-Jugend Runde] EJW Münchingen  - CVJM Enzweihingen 
URL:https://www.eichenkreuzliga.de/handball/game/id/12820
DTSTART:20201213T170000
DTEND:20201213T180000
LOCATION:Sporthalle Münchingen\, 70825 Korntal-Münchingen
END:VEVENT
END:VCALENDAR
