BEGIN:VCALENDAR
PRODID:-//eluceo/ical//2.0/EN
VERSION:2.0
CALSCALE:GREGORIAN
BEGIN:VEVENT
UID:7670321384cbf28a01650d8a7cd8dd26
DTSTAMP:20260422T110835Z
SUMMARY:[männliche C-Jugend Runde] CVJM Fellbach  - EK Bernhausen 
URL:https://www.eichenkreuzliga.de/handball/game/id/12823
DTSTART:20210313T130000
DTEND:20210313T140000
LOCATION:Zeppelinhalle\, 70734 Fellbach
END:VEVENT
END:VCALENDAR
