BEGIN:VCALENDAR
PRODID:-//eluceo/ical//2.0/EN
VERSION:2.0
CALSCALE:GREGORIAN
BEGIN:VEVENT
UID:b2161f19f54b2405c07e9398903a8481
DTSTAMP:20260422T094836Z
SUMMARY:[männliche C-Jugend Runde] CVJM Fellbach  - CVJM HB Dußlingen-Gom
 aringen 1
URL:https://www.eichenkreuzliga.de/handball/game/id/12824
DTSTART:20210327T163000
DTEND:20210327T173000
LOCATION:Zeppelinhalle\, 70734 Fellbach
END:VEVENT
END:VCALENDAR
