BEGIN:VCALENDAR
PRODID:-//eluceo/ical//2.0/EN
VERSION:2.0
CALSCALE:GREGORIAN
BEGIN:VEVENT
UID:74df1e66cbf73d204f40776d82dc5d95
DTSTAMP:20260422T135954Z
SUMMARY:[männliche C-Jugend Runde] CVJM Kirchentellinsfurt  - CVJM Fellbac
 h 
URL:https://www.eichenkreuzliga.de/handball/game/id/12827
DTSTART:20210207T161000
DTEND:20210207T171000
LOCATION:Sporthalle\, 72138 Kirchentellinsfurt
END:VEVENT
END:VCALENDAR
