BEGIN:VCALENDAR
PRODID:-//eluceo/ical//2.0/EN
VERSION:2.0
CALSCALE:GREGORIAN
BEGIN:VEVENT
UID:c059b8d8be619a7bcd12570d53da71b6
DTSTAMP:20260422T110648Z
SUMMARY:[männliche C-Jugend Runde] EK Bernhausen  - CVJM HB Dußlingen-Gom
 aringen 1
URL:https://www.eichenkreuzliga.de/handball/game/id/12840
DTSTART:20201114T140000
DTEND:20201114T150000
LOCATION:Elisabeth-Selbert-Gymnasium Halle\, 70794 Bernhausen
END:VEVENT
END:VCALENDAR
