BEGIN:VCALENDAR
PRODID:-//eluceo/ical//2.0/EN
VERSION:2.0
CALSCALE:GREGORIAN
BEGIN:VEVENT
UID:73e1d4d4cb951ba25336e8977bc43c78
DTSTAMP:20260422T122532Z
SUMMARY:[männliche C-Jugend Runde] EK Höfingen  - CVJM HB Dußlingen-Goma
 ringen 1
URL:https://www.eichenkreuzliga.de/handball/game/id/12848
DTSTART:20210417T133000
DTEND:20210417T143000
LOCATION:Strohgäuhalle\, 71229 Höfingen
END:VEVENT
END:VCALENDAR
