BEGIN:VCALENDAR
PRODID:-//eluceo/ical//2.0/EN
VERSION:2.0
CALSCALE:GREGORIAN
BEGIN:VEVENT
UID:27b8950c819a6f1a28c3a73ec1e5491e
DTSTAMP:20260422T140040Z
SUMMARY:[männliche C-Jugend Runde] EK Köngen  - CVJM Hagelloch 
URL:https://www.eichenkreuzliga.de/handball/game/id/12859
DTSTART:20210425T130000
DTEND:20210425T140000
LOCATION:Burgschulhalle\, 73257 Köngen
END:VEVENT
END:VCALENDAR
