BEGIN:VCALENDAR
PRODID:-//eluceo/ical//2.0/EN
VERSION:2.0
CALSCALE:GREGORIAN
BEGIN:VEVENT
UID:243e9e6284e49065f726704144082161
DTSTAMP:20260422T135912Z
SUMMARY:[männliche B-Jugend Runde] CVJM Wildberg  - CVJM Möglingen 
URL:https://www.eichenkreuzliga.de/handball/game/id/12889
DTSTART:20201129T140000
DTEND:20201129T150000
LOCATION:Sporthalle Wildberg\, 72218 Wildberg
END:VEVENT
END:VCALENDAR
