BEGIN:VCALENDAR
PRODID:-//eluceo/ical//2.0/EN
VERSION:2.0
CALSCALE:GREGORIAN
BEGIN:VEVENT
UID:aaf1722e8bc5ca23a445788c03cf2b7b
DTSTAMP:20260422T122320Z
SUMMARY:[männliche B-Jugend Runde] EK Bernhausen  - CVJM HB Dußlingen-Gom
 aringen 
URL:https://www.eichenkreuzliga.de/handball/game/id/12913
DTSTART:20210123T150000
DTEND:20210123T160000
LOCATION:Elisabeth-Selbert-Gymnasium Halle\, 70794 Bernhausen
END:VEVENT
END:VCALENDAR
