BEGIN:VCALENDAR
PRODID:-//eluceo/ical//2.0/EN
VERSION:2.0
CALSCALE:GREGORIAN
BEGIN:VEVENT
UID:60fda176876b84b2b3b989ad86e1afd5
DTSTAMP:20260422T110718Z
SUMMARY:[männliche A-Jugend Runde] EK Höfingen  - CVJM HB Dußlingen-Goma
 ringen 
URL:https://www.eichenkreuzliga.de/handball/game/id/12950
DTSTART:20201128T140000
DTEND:20201128T150000
LOCATION:Strohgäuhalle\, 71229 Höfingen
END:VEVENT
END:VCALENDAR
