BEGIN:VCALENDAR
PRODID:-//eluceo/ical//2.0/EN
VERSION:2.0
CALSCALE:GREGORIAN
BEGIN:VEVENT
UID:a7d3b81b964b1a813a0ce27ddf3778e9
DTSTAMP:20260422T122328Z
SUMMARY:[männliche A-Jugend Runde] EK Köngen  - EK Bernhausen 
URL:https://www.eichenkreuzliga.de/handball/game/id/12974
DTSTART:20210313T170000
DTEND:20210313T180000
LOCATION:Burgschulhalle\, 73257 Köngen
END:VEVENT
END:VCALENDAR
