BEGIN:VCALENDAR
PRODID:-//eluceo/ical//2.0/EN
VERSION:2.0
CALSCALE:GREGORIAN
BEGIN:VEVENT
UID:c61ece52d716a3e9176e53abf450640c
DTSTAMP:20260422T122405Z
SUMMARY:[männliche A-Jugend Runde] EK Bernhausen  - EK Höfingen 
URL:https://www.eichenkreuzliga.de/handball/game/id/12988
DTSTART:20201024T153000
DTEND:20201024T163000
LOCATION:Elisabeth-Selbert-Gymnasium Halle\, 70794 Bernhausen
END:VEVENT
END:VCALENDAR
