BEGIN:VCALENDAR
PRODID:-//eluceo/ical//2.0/EN
VERSION:2.0
CALSCALE:GREGORIAN
BEGIN:VEVENT
UID:a0f5051ad808b4e720e3b7948a75daf5
DTSTAMP:20260421T133139Z
SUMMARY:[Männer LK4] SG Grunbach Winterbach  - CVJM SG Mössingen/Belsen 1
 c
URL:https://www.eichenkreuzliga.de/handball/game/id/13028
DTSTART:20210124T160000
DTEND:20210124T170000
LOCATION:Jahnhalle\, 73630 Grunbach
END:VEVENT
END:VCALENDAR
