BEGIN:VCALENDAR
PRODID:-//eluceo/ical//2.0/EN
VERSION:2.0
CALSCALE:GREGORIAN
BEGIN:VEVENT
UID:2a5bdcebee1dc29dc1e66a18fb9cefe2
DTSTAMP:20260421T133011Z
SUMMARY:[Männer LK4] EK Wolfschlugen  - CVJM Enzweihingen 1b
URL:https://www.eichenkreuzliga.de/handball/game/id/13033
DTSTART:20201206T170000
DTEND:20201206T180000
LOCATION:Sporthalle Herdhau\, 72649 Wolfschlugen
END:VEVENT
END:VCALENDAR
