BEGIN:VCALENDAR
PRODID:-//eluceo/ical//2.0/EN
VERSION:2.0
CALSCALE:GREGORIAN
BEGIN:VEVENT
UID:f763055e796b28a7730ba68849ccf060
DTSTAMP:20260421T133042Z
SUMMARY:[Männer LK4] CVJM HB Dußlingen-Gomaringen 2 - CVJM Möglingen 1b
URL:https://www.eichenkreuzliga.de/handball/game/id/13044
DTSTART:20210116T180000
DTEND:20210116T190000
LOCATION:Hönisch Sporthalle\, 72144 Dusslingen
END:VEVENT
END:VCALENDAR
