BEGIN:VCALENDAR
PRODID:-//eluceo/ical//2.0/EN
VERSION:2.0
CALSCALE:GREGORIAN
BEGIN:VEVENT
UID:691e530eeeef9cf5c24bb99ef61b2563
DTSTAMP:20260421T133358Z
SUMMARY:[Männer LK4] CVJM Kusterdingen e.V.  - SG Grunbach Winterbach 
URL:https://www.eichenkreuzliga.de/handball/game/id/13050
DTSTART:20210313T170000
DTEND:20210313T180000
LOCATION:Härtensporthalle\, 72127 Kusterdingen
END:VEVENT
END:VCALENDAR
