BEGIN:VCALENDAR
PRODID:-//eluceo/ical//2.0/EN
VERSION:2.0
CALSCALE:GREGORIAN
BEGIN:VEVENT
UID:90823c09481f1c04f57cf350891edb07
DTSTAMP:20260422T110835Z
SUMMARY:[Männer Landesliga] EK Köngen  - EK Höfingen 
URL:https://www.eichenkreuzliga.de/handball/game/id/13104
DTSTART:20201212T183000
DTEND:20201212T193000
LOCATION:Burgschulhalle\, 73257 Köngen
END:VEVENT
END:VCALENDAR
