BEGIN:VCALENDAR
PRODID:-//eluceo/ical//2.0/EN
VERSION:2.0
CALSCALE:GREGORIAN
BEGIN:VEVENT
UID:3fa94c4fd6d3beac20d86b4e0e1d5e92
DTSTAMP:20260422T135953Z
SUMMARY:[männliche B-Jugend Finalspiele] EK Testverein  - EK Testverein 
URL:https://www.eichenkreuzliga.de/handball/game/id/13165
DTSTART:20210424T160000
DTEND:20210424T170000
LOCATION:Hönisch Sporthalle\, 72144 Dusslingen
END:VEVENT
END:VCALENDAR
