BEGIN:VCALENDAR
PRODID:-//eluceo/ical//2.0/EN
VERSION:2.0
CALSCALE:GREGORIAN
BEGIN:VEVENT
UID:d481881fd3e9a18d488e61957a52587b
DTSTAMP:20260422T135953Z
SUMMARY:[männliche E-Jugend Finalspiele] EK Testverein  - EK Testverein 
URL:https://www.eichenkreuzliga.de/handball/game/id/13168
DTSTART:20210418T150000
DTEND:20210418T160000
LOCATION:Sporthalle Münchingen\, 70825 Korntal-Münchingen
END:VEVENT
END:VCALENDAR
