BEGIN:VCALENDAR
PRODID:-//eluceo/ical//2.0/EN
VERSION:2.0
CALSCALE:GREGORIAN
BEGIN:VEVENT
UID:f8d00b600c67ecb3ea91d5ae3fc50ca4
DTSTAMP:20260422T135912Z
SUMMARY:[Männer Meisterrunde LK4] EK Testverein  - EK Testverein 
URL:https://www.eichenkreuzliga.de/handball/game/id/13172
DTSTART:20210410T153000
DTEND:20210410T163000
LOCATION:Stadionhalle\, 71696 Möglingen
END:VEVENT
END:VCALENDAR
