BEGIN:VCALENDAR
PRODID:-//eluceo/ical//2.0/EN
VERSION:2.0
CALSCALE:GREGORIAN
BEGIN:VEVENT
UID:bf46c10b13d65357cc3d822cba74fdc7
DTSTAMP:20260422T135928Z
SUMMARY:[Männer Meisterrunde LK4] EK Testverein  - EK Testverein 
URL:https://www.eichenkreuzliga.de/handball/game/id/13173
DTSTART:20210410T133000
DTEND:20210410T143000
LOCATION:Stadionhalle\, 71696 Möglingen
END:VEVENT
END:VCALENDAR
