BEGIN:VCALENDAR
PRODID:-//eluceo/ical//2.0/EN
VERSION:2.0
CALSCALE:GREGORIAN
BEGIN:VEVENT
UID:4e34b93f3b7ab3c45667ef705d70c96e
DTSTAMP:20260422T122409Z
SUMMARY:[Männer Finalrunde LK3] EK Testverein  - EK Testverein 
URL:https://www.eichenkreuzliga.de/handball/game/id/13178
DTSTART:20210425T170000
DTEND:20210425T180000
LOCATION:Sporthalle Münchingen\, 70825 Korntal-Münchingen
END:VEVENT
END:VCALENDAR
