BEGIN:VCALENDAR
PRODID:-//eluceo/ical//2.0/EN
VERSION:2.0
CALSCALE:GREGORIAN
BEGIN:VEVENT
UID:9b1967af5471593d46f18599ec6e0d89
DTSTAMP:20260422T152501Z
SUMMARY:[Männer Finalrunde LK3] EK Testverein  - EK Testverein 
URL:https://www.eichenkreuzliga.de/handball/game/id/13179
DTSTART:20210425T190000
DTEND:20210425T200000
LOCATION:Sporthalle Münchingen\, 70825 Korntal-Münchingen
END:VEVENT
END:VCALENDAR
