BEGIN:VCALENDAR
PRODID:-//eluceo/ical//2.0/EN
VERSION:2.0
CALSCALE:GREGORIAN
BEGIN:VEVENT
UID:12b581a220d122f2ef9da61e47c69896
DTSTAMP:20260422T085715Z
SUMMARY:Mixed Liga Mixed-Liga 2021/22
DESCRIPTION:Teams: MINAVO Althütte 1\, CVJM Schorndorf
URL:https://www.eichenkreuzliga.de/volleyball/game/id/14422
DTSTART:20220402T000000
DTEND:20220402T010000
LOCATION:Johann-Philipp-Palm-Halle\, 73614 Schorndorf
END:VEVENT
END:VCALENDAR
