BEGIN:VCALENDAR
PRODID:-//eluceo/ical//2.0/EN
VERSION:2.0
CALSCALE:GREGORIAN
BEGIN:VEVENT
UID:5b9ff1c318142ddbb1a914941220e27c
DTSTAMP:20260423T005752Z
SUMMARY:[Herren LK3] EK Wolfschlugen  - CVJM Heidenheim 
URL:https://www.eichenkreuzliga.de/fussball/game/id/14852
DTSTART:20220925T150000
DTEND:20220925T160000
LOCATION:\,  
END:VEVENT
END:VCALENDAR
