BEGIN:VCALENDAR
PRODID:-//eluceo/ical//2.0/EN
VERSION:2.0
CALSCALE:GREGORIAN
BEGIN:VEVENT
UID:6b9650de21d01e8aa35888686390ae7e
DTSTAMP:20260423T022543Z
SUMMARY:[Herren LK3] EK Dettingen/Teck  - CVJM Bernloch 
URL:https://www.eichenkreuzliga.de/fussball/game/id/14853
DTSTART:20230709T160000
DTEND:20230709T170000
LOCATION:\,  
END:VEVENT
END:VCALENDAR
