BEGIN:VCALENDAR
PRODID:-//eluceo/ical//2.0/EN
VERSION:2.0
CALSCALE:GREGORIAN
BEGIN:VEVENT
UID:4192135c3ab25eb42ab130664c44e8a8
DTSTAMP:20260423T022758Z
SUMMARY:[Herren LK3] EK Wolfschlugen  - CVJM Renningen 
URL:https://www.eichenkreuzliga.de/fussball/game/id/14854
DTSTART:20221023T150000
DTEND:20221023T160000
LOCATION:\,  
END:VEVENT
END:VCALENDAR
