BEGIN:VCALENDAR
PRODID:-//eluceo/ical//2.0/EN
VERSION:2.0
CALSCALE:GREGORIAN
BEGIN:VEVENT
UID:4512b05af79f826abee0ad2f1cfe2fd7
DTSTAMP:20260423T010021Z
SUMMARY:[Herren LK3] CVJM Renningen  - EK Dettingen/Teck 
URL:https://www.eichenkreuzliga.de/fussball/game/id/14856
DTSTART:20221120T170000
DTEND:20221120T180000
LOCATION:\,  
END:VEVENT
END:VCALENDAR
