BEGIN:VCALENDAR
PRODID:-//eluceo/ical//2.0/EN
VERSION:2.0
CALSCALE:GREGORIAN
BEGIN:VEVENT
UID:0ff7155b7daedd490b3db0764d67d29c
DTSTAMP:20260423T022634Z
SUMMARY:[Herren LK3] CVJM Bernloch  - EK Wolfschlugen 
URL:https://www.eichenkreuzliga.de/fussball/game/id/14857
DTSTART:20221119T150000
DTEND:20221119T160000
LOCATION:\,  
END:VEVENT
END:VCALENDAR
