BEGIN:VCALENDAR
PRODID:-//eluceo/ical//2.0/EN
VERSION:2.0
CALSCALE:GREGORIAN
BEGIN:VEVENT
UID:5f857f4587925ade5463affe65ed6ec4
DTSTAMP:20260423T022559Z
SUMMARY:[Herren LK3] EK Dettingen/Teck  - CVJM Heidenheim 
URL:https://www.eichenkreuzliga.de/fussball/game/id/14858
DTSTART:20221022T160000
DTEND:20221022T170000
LOCATION:\,  
END:VEVENT
END:VCALENDAR
