BEGIN:VCALENDAR
PRODID:-//eluceo/ical//2.0/EN
VERSION:2.0
CALSCALE:GREGORIAN
BEGIN:VEVENT
UID:056b0009238cf3989196cb63a6eb4564
DTSTAMP:20260422T221527Z
SUMMARY:[männliche D-Jugend LK 1 2014/15] CVJM  Walddorfhäslach  - CVJM D
 ettingen/Erms 
URL:https://www.eichenkreuzliga.de/handball/game/id/1543
DTSTART:20141011T151000
DTEND:20141011T161000
LOCATION:Neuwiesenhalle\, 72581  Dettingen/Erms
END:VEVENT
END:VCALENDAR
