BEGIN:VCALENDAR
PRODID:-//eluceo/ical//2.0/EN
VERSION:2.0
CALSCALE:GREGORIAN
BEGIN:VEVENT
UID:555c3d81bee3e859b819ffc4dbab25f8
DTSTAMP:20260423T005935Z
SUMMARY:[Herren LK3] EK Dettingen/Teck  - CVJM Renningen 
URL:https://www.eichenkreuzliga.de/fussball/game/id/15984
DTSTART:20230402T160000
DTEND:20230402T170000
LOCATION:\,  
END:VEVENT
END:VCALENDAR
