BEGIN:VCALENDAR
PRODID:-//eluceo/ical//2.0/EN
VERSION:2.0
CALSCALE:GREGORIAN
BEGIN:VEVENT
UID:956ba6d68a4b2788b58fe1ff815c9d71
DTSTAMP:20260423T005752Z
SUMMARY:[Herren LK3] EK Wolfschlugen  - CVJM Bernloch 
URL:https://www.eichenkreuzliga.de/fussball/game/id/15985
DTSTART:20230430T150000
DTEND:20230430T160000
LOCATION:\,  
END:VEVENT
END:VCALENDAR
