BEGIN:VCALENDAR
PRODID:-//eluceo/ical//2.0/EN
VERSION:2.0
CALSCALE:GREGORIAN
BEGIN:VEVENT
UID:9f6ee631537def6e9f0441c15aea3033
DTSTAMP:20260425T133009Z
SUMMARY:[Herren LK1] EC Dagersheim  - CSV Kirchheim 
URL:https://www.eichenkreuzliga.de/fussball/game/id/16014
DTSTART:20230507T180000
DTEND:20230507T190000
LOCATION:\,  
END:VEVENT
END:VCALENDAR
