BEGIN:VCALENDAR
PRODID:-//eluceo/ical//2.0/EN
VERSION:2.0
CALSCALE:GREGORIAN
BEGIN:VEVENT
UID:a6d720564bbb0ef21201c226b57a963c
DTSTAMP:20260424T100110Z
SUMMARY:[männliche D-Jugend Runde] CVJM Enzweihingen  - CVJM HB Dußlingen
 -Gomaringen 2 a.K.
URL:https://www.eichenkreuzliga.de/handball/game/id/16147
DTSTART:20231202T153000
DTEND:20231202T163000
LOCATION:Schulsporthalle\, 71665 Enzweihingen
END:VEVENT
END:VCALENDAR
